BEGIN:VCALENDAR
VERSION:2.0
PRODID:-//Plone.org//NONSGML plone.app.event//EN
X-WR-TIMEZONE:US/Central
BEGIN:VEVENT
SUMMARY:We are Closed
DTSTART;VALUE=DATE:20250726
DTEND;VALUE=DATE:20250727
DTSTAMP:20260423T160224Z
UID:67b3724a8e444a42aa52516219ad3997@saas_stack_varnish:6080
CREATED:20250703T191327Z
LAST-MODIFIED:20250703T191418Z
URL:https://www.schuylercounty.lib.mo.us/calendar-news/events/we-are-close
 d
END:VEVENT
END:VCALENDAR
