BEGIN:VCALENDAR
VERSION:2.0
PRODID:-//Plone.org//NONSGML plone.app.event//EN
X-WR-TIMEZONE:US/Central
BEGIN:VEVENT
SUMMARY:Toddler Time!
DTSTART;TZID=US/Central:20260327T100000
DTEND;TZID=US/Central:20260327T110000
DTSTAMP:20260422T083721Z
UID:6285006af26240d4b35b0d9e67113214@saas_stack_varnish:6080
CONTACT:Schuyler County Library District\, 660-457-3731\, sclibrary@yahoo.
 com
CREATED:20260223T191805Z
DESCRIPTION:Bring your toddler for a fun time!
LAST-MODIFIED:20260421T181634Z
LOCATION:Schuyler County Library District
URL:https://www.schuylercounty.lib.mo.us/calendar-news/events/toddler-time
 -1/2026-03-27
END:VEVENT
BEGIN:VTIMEZONE
TZID:US/Central
X-LIC-LOCATION:US/Central
BEGIN:DAYLIGHT
DTSTART:20260308T030000
TZNAME:CDT
TZOFFSETFROM:-0600
TZOFFSETTO:-0500
END:DAYLIGHT
END:VTIMEZONE
END:VCALENDAR
