BEGIN:VCALENDAR
VERSION:2.0
PRODID:-//Plone.org//NONSGML plone.app.event//EN
X-WR-TIMEZONE:US/Central
BEGIN:VEVENT
SUMMARY:STEM Story Hour
DTSTART;TZID=US/Central:20251027T100000
DTSTAMP:20260420T045551Z
UID:2ac650e6c4c847c797dea6aaeca783a0@saas_stack_varnish:6080
CONTACT:Schuyler County Library District\, 660-457-3731\, sclibrary@yahoo.
 com
CREATED:20250922T165844Z
DESCRIPTION:Kelli Harris with the University of Missouri Extension Office 
 will be here to present a fun hands on STEM activity for the kids to learn
  as they do
LAST-MODIFIED:20251025T164203Z
LOCATION:Schuyler County Library District
URL:https://www.schuylercounty.lib.mo.us/calendar-news/events/stem-story-h
 our-4
END:VEVENT
BEGIN:VTIMEZONE
TZID:US/Central
X-LIC-LOCATION:US/Central
BEGIN:DAYLIGHT
DTSTART:20250309T030000
TZNAME:CDT
TZOFFSETFROM:-0600
TZOFFSETTO:-0500
END:DAYLIGHT
END:VTIMEZONE
END:VCALENDAR
