BEGIN:VCALENDAR
VERSION:2.0
PRODID:-//Plone.org//NONSGML plone.app.event//EN
X-WR-TIMEZONE:US/Central
BEGIN:VEVENT
SUMMARY:Craft and Hobbies
DTSTART;TZID=US/Central:20251104T130000
DTSTAMP:20260420T063052Z
UID:13478f37ebff48c382a5a73c13a752f4@saas_stack_varnish:6080
CONTACT:Library\, 6604573731\, sclibrary@yahoo.com
CREATED:20231221T165140Z
LAST-MODIFIED:20251113T164430Z
LOCATION:Schuyler County Library District
URL:https://www.schuylercounty.lib.mo.us/calendar-news/events/craft-and-ho
 bbies-1/2025-11-04
END:VEVENT
BEGIN:VTIMEZONE
TZID:US/Central
X-LIC-LOCATION:US/Central
BEGIN:STANDARD
DTSTART:20251102T010000
TZNAME:CST
TZOFFSETFROM:-0500
TZOFFSETTO:-0600
END:STANDARD
END:VTIMEZONE
END:VCALENDAR
