BEGIN:VCALENDAR
VERSION:2.0
PRODID:-//Plone.org//NONSGML plone.app.event//EN
X-WR-TIMEZONE:US/Central
BEGIN:VEVENT
SUMMARY:Craft and Hobbies
DTSTART;TZID=US/Central:20250729T130000
DTSTAMP:20260423T155838Z
UID:13478f37ebff48c382a5a73c13a752f4@saas_stack_varnish:6080
CONTACT:Library\, 6604573731\, sclibrary@yahoo.com
CREATED:20231221T165140Z
LAST-MODIFIED:20251113T164430Z
LOCATION:Schuyler County Library District
URL:https://www.schuylercounty.lib.mo.us/calendar-news/events/craft-and-ho
 bbies-1/2025-07-29
END:VEVENT
BEGIN:VTIMEZONE
TZID:US/Central
X-LIC-LOCATION:US/Central
BEGIN:DAYLIGHT
DTSTART:20250309T030000
TZNAME:CDT
TZOFFSETFROM:-0600
TZOFFSETTO:-0500
END:DAYLIGHT
END:VTIMEZONE
END:VCALENDAR
