BEGIN:VCALENDAR
VERSION:2.0
PRODID:-//Plone.org//NONSGML plone.app.event//EN
X-WR-TIMEZONE:US/Central
BEGIN:VEVENT
SUMMARY:Cozy Mys-Tea-Reads Hour
DTSTART;TZID=US/Central:20250729T140000
DTEND;TZID=US/Central:20250729T150000
DTSTAMP:20260423T155856Z
UID:c3db6f41b7ce474e99befd3bf90dc780@saas_stack_varnish:6080
CONTACT:Schuyler County Library District\, 660-457-3731\, sclibrary@yahoo.
 com
CREATED:20250527T164029Z
DESCRIPTION:Cozy mysteries\, also referred to as "cosy mysteries" or "cozi
 es"\, are a sub-genre of crime fiction in which intimacy and violence occu
 r offstage\, the detective is an amateur sleuth\, and the crime and detect
 ion take place in a small\, socially-intimate community.
LAST-MODIFIED:20250527T164037Z
LOCATION:Schuyler County Library District
URL:https://www.schuylercounty.lib.mo.us/calendar-news/events/cozy-mys-tea
 -reads-hour-12
END:VEVENT
BEGIN:VTIMEZONE
TZID:US/Central
X-LIC-LOCATION:US/Central
BEGIN:DAYLIGHT
DTSTART:20250309T030000
TZNAME:CDT
TZOFFSETFROM:-0600
TZOFFSETTO:-0500
END:DAYLIGHT
END:VTIMEZONE
END:VCALENDAR
