BEGIN:VCALENDAR
VERSION:2.0
PRODID:-//Plone.org//NONSGML plone.app.event//EN
X-WR-TIMEZONE:US/Central
BEGIN:VEVENT
SUMMARY:Cozy Mys-Tea Reads
DTSTART;TZID=US/Central:20251028T140000
DTSTAMP:20260420T044910Z
UID:a51150eb0c124566b01a35f49d165882@saas_stack_varnish:6080
CONTACT:Schuyler County Library District\, 660-457-3731\, sclibrary@yahoo.
 com
CREATED:20250922T170420Z
DESCRIPTION:Come and join us for our Cozy Mys-TEA-Hour! Will be discussing
  "Trick or Treat Murder by Leslie Meier" Come have some tea and snacks as 
 well!
LAST-MODIFIED:20250922T170445Z
LOCATION:Schuyler County Library District
URL:https://www.schuylercounty.lib.mo.us/calendar-news/events/cozy-mys-tea
 -reads-2
END:VEVENT
BEGIN:VTIMEZONE
TZID:US/Central
X-LIC-LOCATION:US/Central
BEGIN:DAYLIGHT
DTSTART:20250309T030000
TZNAME:CDT
TZOFFSETFROM:-0600
TZOFFSETTO:-0500
END:DAYLIGHT
END:VTIMEZONE
END:VCALENDAR
