BEGIN:VCALENDAR
VERSION:2.0
PRODID:-//Plone.org//NONSGML plone.app.event//EN
X-WR-TIMEZONE:US/Central
BEGIN:VEVENT
SUMMARY:Clean Reads Book Club
DTSTART;TZID=US/Central:20260502T100000
DTEND;TZID=US/Central:20260502T110000
DTSTAMP:20260422T133336Z
UID:8440bab7536b420a8ff0a6d269111b64@saas_stack_varnish:6080
CONTACT:Schuyler County Library District\, 660-457-3731\, sclibrary@yahoo.
 com
CREATED:20260421T174530Z
DESCRIPTION:We will be discussing the book "The Curious Inheritance of Bla
 kely House" by Joanna Davidson Politano!
LAST-MODIFIED:20260421T174541Z
LOCATION:Schuyler County Library District
URL:https://www.schuylercounty.lib.mo.us/calendar-news/events/clean-reads-
 book-club-4
END:VEVENT
BEGIN:VTIMEZONE
TZID:US/Central
X-LIC-LOCATION:US/Central
BEGIN:DAYLIGHT
DTSTART:20260308T030000
TZNAME:CDT
TZOFFSETFROM:-0600
TZOFFSETTO:-0500
END:DAYLIGHT
END:VTIMEZONE
END:VCALENDAR
