BEGIN:VCALENDAR
VERSION:2.0
PRODID:-//Plone.org//NONSGML plone.app.event//EN
X-WR-TIMEZONE:US/Central
BEGIN:VEVENT
SUMMARY:Book Sale
DTSTART;TZID=US/Central:20260502T090000
DTEND;TZID=US/Central:20260502T120000
DTSTAMP:20260422T131524Z
UID:1c25f2bddc5943679a43bfee3874bef9@saas_stack_varnish:6080
CONTACT:660-457-3731\, sclibrary@yahoo.com
CREATED:20260122T154708Z
DESCRIPTION:From 9-12 we will be having a book sale! Come and check out al
 l of the awesome books!
LAST-MODIFIED:20260421T174110Z
LOCATION:Schuyler County Library District
URL:https://www.schuylercounty.lib.mo.us/calendar-news/events/book-sale-2/
 2026-05-02
END:VEVENT
BEGIN:VTIMEZONE
TZID:US/Central
X-LIC-LOCATION:US/Central
BEGIN:DAYLIGHT
DTSTART:20260308T030000
TZNAME:CDT
TZOFFSETFROM:-0600
TZOFFSETTO:-0500
END:DAYLIGHT
END:VTIMEZONE
END:VCALENDAR
