BEGIN:VCALENDAR
VERSION:2.0
PRODID:-//Plone.org//NONSGML plone.app.event//EN
X-WR-TIMEZONE:US/Central
BEGIN:VEVENT
SUMMARY:Annual Plant Swamp
DTSTART;TZID=US/Central:20260502T090000
DTEND;TZID=US/Central:20260502T120000
DTSTAMP:20260422T133734Z
UID:2dcc442514f5491782bedfff516d7e66@saas_stack_varnish:6080
CONTACT:Schuyler County Library District\, 660-457-3731\, sclibrary@yahoo.
 com
CREATED:20260421T174254Z
LAST-MODIFIED:20260421T174308Z
LOCATION:Schuyler County Library District
URL:https://www.schuylercounty.lib.mo.us/calendar-news/events/annual-plant
 -swamp
END:VEVENT
BEGIN:VTIMEZONE
TZID:US/Central
X-LIC-LOCATION:US/Central
BEGIN:DAYLIGHT
DTSTART:20260308T030000
TZNAME:CDT
TZOFFSETFROM:-0600
TZOFFSETTO:-0500
END:DAYLIGHT
END:VTIMEZONE
END:VCALENDAR
